BEGIN:VCALENDAR
VERSION:2.0
PRODID:-//MDE Convergence Entrepreneurs - ECPv5.10.1//NONSGML v1.0//EN
CALSCALE:GREGORIAN
METHOD:PUBLISH
X-WR-CALNAME:MDE Convergence Entrepreneurs
X-ORIGINAL-URL:https://www.mde-ce.com
X-WR-CALDESC:évènements pour MDE Convergence Entrepreneurs
BEGIN:VTIMEZONE
TZID:UTC
BEGIN:STANDARD
TZOFFSETFROM:+0000
TZOFFSETTO:+0000
TZNAME:UTC
DTSTART:20230101T000000
END:STANDARD
END:VTIMEZONE
BEGIN:VEVENT
DTSTART;TZID=UTC:20231108T090000
DTEND;TZID=UTC:20231108T110000
DTSTAMP:20260425T175625
CREATED:20231109T183745Z
LAST-MODIFIED:20231109T183952Z
UID:1105-1699434000-1699441200@www.mde-ce.com
SUMMARY:Workshop : Intelligence Artificielle\, Introduction & Opportunités Business
DESCRIPTION:📆 Bookez votre prochain Workshop autour de l’initiation à l’intelligence artificielle. L’enjeu est de démystifier cette pratique déjà très ancrée et comprendre comment la déployer sur différents business. 👾 \nInscription ici 👉 https://lnkd.in/eyjZTuM7
URL:https://www.mde-ce.com/event/workshop-intelligence-artificielle-introduction-opportunites-business/
ATTACH;FMTTYPE=image/png:https://www.mde-ce.com/wp-content/uploads/2023/11/CROWDFUNDING-1.png
END:VEVENT
END:VCALENDAR