BEGIN:VCALENDAR
VERSION:2.0
PRODID:-//MDE Convergence Entrepreneurs - ECPv5.10.1//NONSGML v1.0//EN
CALSCALE:GREGORIAN
METHOD:PUBLISH
X-WR-CALNAME:MDE Convergence Entrepreneurs
X-ORIGINAL-URL:https://www.mde-ce.com
X-WR-CALDESC:évènements pour MDE Convergence Entrepreneurs
BEGIN:VTIMEZONE
TZID:UTC
BEGIN:STANDARD
TZOFFSETFROM:+0000
TZOFFSETTO:+0000
TZNAME:UTC
DTSTART:20230101T000000
END:STANDARD
END:VTIMEZONE
BEGIN:VEVENT
DTSTART;TZID=UTC:20231130T093000
DTEND;TZID=UTC:20231130T173000
DTSTAMP:20260425T160830
CREATED:20231109T185324Z
LAST-MODIFIED:20231109T185409Z
UID:1114-1701336600-1701365400@www.mde-ce.com
SUMMARY:DigiPro
DESCRIPTION:Une journée dédiée aux professionnels de l’insertion et le numérique 👩💻👨💻 \nC’est le pari du DigiPro : Un programme de découverte des métiers du numérique pour faciliter aux prescripteurs l’orientation des publics. \n👉Rendez-vous jeudi le 30 novembre 2023 pour la prochaine session \nPour vous inscrire envoyez un mail à : ogonle@mde-ce.com
URL:https://www.mde-ce.com/event/digipro-2/
ATTACH;FMTTYPE=image/png:https://www.mde-ce.com/wp-content/uploads/2023/11/DigiPro-Nov-23.png
END:VEVENT
END:VCALENDAR