BEGIN:VCALENDAR
VERSION:2.0
PRODID:-//MDE Convergence Entrepreneurs - ECPv5.10.1//NONSGML v1.0//EN
CALSCALE:GREGORIAN
METHOD:PUBLISH
X-WR-CALNAME:MDE Convergence Entrepreneurs
X-ORIGINAL-URL:https://www.mde-ce.com
X-WR-CALDESC:évènements pour MDE Convergence Entrepreneurs
BEGIN:VTIMEZONE
TZID:UTC
BEGIN:STANDARD
TZOFFSETFROM:+0000
TZOFFSETTO:+0000
TZNAME:UTC
DTSTART:20240101T000000
END:STANDARD
END:VTIMEZONE
BEGIN:VEVENT
DTSTART;TZID=UTC:20240223T093000
DTEND;TZID=UTC:20240223T113000
DTSTAMP:20260425T124531
CREATED:20240131T144250Z
LAST-MODIFIED:20240131T144250Z
UID:1130-1708680600-1708687800@www.mde-ce.com
SUMMARY:Workshop : créer son site web
DESCRIPTION:Le site internet est aujourd’hui devenu un outil incontournable dans la communication digitale d’une entreprise. Contribuant fortement au développement de l’image de marque de l’entreprise\, le site internet doit être pensé afin de répondre aux besoins de la cible. Quels critères est-il important de prendre en considération ? Comment s’inspirer des sites internet des concurrents pour renforcer sa stratégie ? Quels outils utiliser pour construire son site internet ? \nPour répondre à ces questions\, MDE Convergence Entrepreneurs vous propose en présentiel un atelier : Créer et développer son site internet : \nVendredi 23 février 2024 9h30-11h30\,\nau 1 rue Auguste Renoir à Aulnay-Sous-Bois (93600).
URL:https://www.mde-ce.com/event/workshop-creer-son-site-web-3/
ATTACH;FMTTYPE=image/png:https://www.mde-ce.com/wp-content/uploads/2024/01/site-internet-24.png
END:VEVENT
END:VCALENDAR