BEGIN:VCALENDAR
VERSION:2.0
PRODID:-//MDE Convergence Entrepreneurs - ECPv5.10.1//NONSGML v1.0//EN
CALSCALE:GREGORIAN
METHOD:PUBLISH
X-WR-CALNAME:MDE Convergence Entrepreneurs
X-ORIGINAL-URL:https://www.mde-ce.com
X-WR-CALDESC:évènements pour MDE Convergence Entrepreneurs
BEGIN:VTIMEZONE
TZID:UTC
BEGIN:STANDARD
TZOFFSETFROM:+0000
TZOFFSETTO:+0000
TZNAME:UTC
DTSTART:20240101T000000
END:STANDARD
END:VTIMEZONE
BEGIN:VEVENT
DTSTART;TZID=UTC:20240920T093000
DTEND;TZID=UTC:20240920T110000
DTSTAMP:20260425T001931
CREATED:20240830T094123Z
LAST-MODIFIED:20240830T094123Z
UID:1193-1726824600-1726830000@www.mde-ce.com
SUMMARY:Workshop : créer du contenu pour les réseaux sociaux
DESCRIPTION:🛠 Les réseaux sociaux sont un levier d’acquisition non négligeable aujourd’hui à intégrer à votre stratégie. \nComment fonctionnent-ils ? Comment créer du contenu adapté à votre business ? \nRéponse durant ce prochain workshop.
URL:https://www.mde-ce.com/event/workshop-creer-du-contenu-pour-les-reseaux-sociaux-2/
ATTACH;FMTTYPE=image/png:https://www.mde-ce.com/wp-content/uploads/2024/08/WORKSH.png
END:VEVENT
END:VCALENDAR