BEGIN:VCALENDAR
VERSION:2.0
PRODID:-//MDE Convergence Entrepreneurs - ECPv5.10.1//NONSGML v1.0//EN
CALSCALE:GREGORIAN
METHOD:PUBLISH
X-WR-CALNAME:MDE Convergence Entrepreneurs
X-ORIGINAL-URL:https://www.mde-ce.com
X-WR-CALDESC:évènements pour MDE Convergence Entrepreneurs
BEGIN:VTIMEZONE
TZID:UTC
BEGIN:STANDARD
TZOFFSETFROM:+0000
TZOFFSETTO:+0000
TZNAME:UTC
DTSTART:20250101T000000
END:STANDARD
END:VTIMEZONE
BEGIN:VEVENT
DTSTART;TZID=UTC:20250307T080000
DTEND;TZID=UTC:20250308T170000
DTSTAMP:20260424T134827
CREATED:20250324T140208Z
LAST-MODIFIED:20250324T141059Z
UID:1258-1741334400-1741453200@www.mde-ce.com
SUMMARY:Formation Croissance Numérique 2025
DESCRIPTION:Vous souhaitez acquérir de nouvelles parts de marché ? Vous envisagez de développer de nouveaux produits et/ou services ? Vous avez l’impression de ne plus avoir de temps pour ces nouveaux projets ? Vous souhaitez tirer parti de ce que le numérique a de meilleur à offrir ? \nMDE Convergence Entrepreneurs\, propose une formation ciblée\, inspirée de méthodologies nord-américaines\, vous permettant d’acquérir les compétences nécessaires au renforcement de votre stratégie de croissance et à la mise en place d’outils numériques utiles à votre développement.
URL:https://www.mde-ce.com/event/formation-croissance-numerique-2025/
ATTACH;FMTTYPE=image/png:https://www.mde-ce.com/wp-content/uploads/2025/03/VISUEL-DIAG-TPE-PME.png
END:VEVENT
END:VCALENDAR