BEGIN:VCALENDAR
VERSION:2.0
PRODID:-//MDE Convergence Entrepreneurs - ECPv5.10.1//NONSGML v1.0//EN
CALSCALE:GREGORIAN
METHOD:PUBLISH
X-WR-CALNAME:MDE Convergence Entrepreneurs
X-ORIGINAL-URL:https://www.mde-ce.com
X-WR-CALDESC:évènements pour MDE Convergence Entrepreneurs
BEGIN:VTIMEZONE
TZID:UTC
BEGIN:STANDARD
TZOFFSETFROM:+0000
TZOFFSETTO:+0000
TZNAME:UTC
DTSTART:20250101T000000
END:STANDARD
END:VTIMEZONE
BEGIN:VEVENT
DTSTART;TZID=UTC:20250324T080000
DTEND;TZID=UTC:20250324T170000
DTSTAMP:20260424T134933
CREATED:20250324T141717Z
LAST-MODIFIED:20250324T141717Z
UID:1264-1742803200-1742835600@www.mde-ce.com
SUMMARY:Masterclass pratique : L'IA une opportunité pour les associations !
DESCRIPTION:👾Dans un contexte de concurrence extrême au niveau international\, les innovations liées à l’intelligence artificielles ne cessent de croître.\n👨‍💻C’est le moment ou jamais d’en tirer le meilleur parti pour votre association ! \n👉Rendez-vous le 24 avril pour une masterclass pratique ! L’occasion de découvrir et de prendre en main ces outils !
URL:https://www.mde-ce.com/event/masterclass-pratique-lia-une-opportunite-pour-les-associations/
ATTACH;FMTTYPE=image/png:https://www.mde-ce.com/wp-content/uploads/2025/03/Masterclass-IA-assos.png
END:VEVENT
END:VCALENDAR