BEGIN:VCALENDAR
VERSION:2.0
PRODID:-//MDE Convergence Entrepreneurs - ECPv5.10.1//NONSGML v1.0//EN
CALSCALE:GREGORIAN
METHOD:PUBLISH
X-WR-CALNAME:MDE Convergence Entrepreneurs
X-ORIGINAL-URL:https://www.mde-ce.com
X-WR-CALDESC:évènements pour MDE Convergence Entrepreneurs
BEGIN:VTIMEZONE
TZID:UTC
BEGIN:STANDARD
TZOFFSETFROM:+0000
TZOFFSETTO:+0000
TZNAME:UTC
DTSTART:20230101T000000
END:STANDARD
END:VTIMEZONE
BEGIN:VEVENT
DTSTART;TZID=UTC:20230417T090000
DTEND;TZID=UTC:20230421T170000
DTSTAMP:20260426T033312
CREATED:20230403T083122Z
LAST-MODIFIED:20230403T084010Z
UID:843-1681722000-1682096400@www.mde-ce.com
SUMMARY:DigiPoP
DESCRIPTION:Une semaine d’immersion pour s’initier au numérique ! Du code jusqu’à l’impression 3D\, venez en apprendre davantage sur ces métiers porteurs dans le parcours DigiPoP.
URL:https://www.mde-ce.com/event/digipop-2/
ATTACH;FMTTYPE=image/png:https://www.mde-ce.com/wp-content/uploads/2023/04/image.png
END:VEVENT
BEGIN:VEVENT
DTSTART;TZID=UTC:20230427T093000
DTEND;TZID=UTC:20230427T110000
DTSTAMP:20260426T033312
CREATED:20230403T083738Z
LAST-MODIFIED:20230505T101546Z
UID:846-1682587800-1682593200@www.mde-ce.com
SUMMARY:Workshop : Outils de Business en Ligne
DESCRIPTION:Quel que ce soit la nature de votre business\, le numérique est là pour le booster. \nDans ce workshop\, vous découvrirez toute une panoplie de solutions pour mener à bien votre activité. Gagnez du temps en automatisant des tâches et accédez à des outils intuitifs pour propulser votre visibilité\, votre stratégie marketing ou votre organisation.
URL:https://www.mde-ce.com/event/workshop-outils-de-business-en-ligne/
ATTACH;FMTTYPE=image/png:https://www.mde-ce.com/wp-content/uploads/2023/04/CROWDFUNDING-10.png
END:VEVENT
END:VCALENDAR