BEGIN:VCALENDAR
VERSION:2.0
PRODID:-//MDE Convergence Entrepreneurs - ECPv5.10.1//NONSGML v1.0//EN
CALSCALE:GREGORIAN
METHOD:PUBLISH
X-WR-CALNAME:MDE Convergence Entrepreneurs
X-ORIGINAL-URL:https://www.mde-ce.com
X-WR-CALDESC:évènements pour MDE Convergence Entrepreneurs
BEGIN:VTIMEZONE
TZID:UTC
BEGIN:STANDARD
TZOFFSETFROM:+0000
TZOFFSETTO:+0000
TZNAME:UTC
DTSTART:20230101T000000
END:STANDARD
END:VTIMEZONE
BEGIN:VEVENT
DTSTART;TZID=UTC:20230608T093000
DTEND;TZID=UTC:20230608T110000
DTSTAMP:20260426T002034
CREATED:20230505T101445Z
LAST-MODIFIED:20230505T102058Z
UID:851-1686216600-1686222000@www.mde-ce.com
SUMMARY:Workshop : Créer du contenu pour les réseaux sociaux
DESCRIPTION:🛠 Les réseaux sociaux sont un levier d’acquisition non négligeable aujourd’hui à intégrer à votre stratégie. \nComment fonctionnent-ils ? Comment créer du contenu adapté à votre business ? \nRéponse durant ce prochain workshop 👇 \nInscription ici 👉 https://forms.gle/bzZM1Bbgsag3i4im8
URL:https://www.mde-ce.com/event/workshop-creer-du-contenu-pour-les-reseaux-sociaux/
ATTACH;FMTTYPE=image/png:https://www.mde-ce.com/wp-content/uploads/2023/05/WORKSH-6.png
END:VEVENT
BEGIN:VEVENT
DTSTART;VALUE=DATE:20230615
DTEND;VALUE=DATE:20230616
DTSTAMP:20260426T002034
CREATED:20230605T093407Z
LAST-MODIFIED:20230605T093407Z
UID:869-1686787200-1686873599@www.mde-ce.com
SUMMARY:Animation en pied d'immeuble
DESCRIPTION:Nos équipes vous donnent rendez-vous en pied de votre immeuble le 15 juin 2023 pour vous présenter nos différents dispositifs et vous accompagner sur vos démarches en ligne avec votre bailleur 1001 vies Habitat. \n📍 Angle de la rue Paul Cézanne et Fernand de Magellan à partir de 10:00 ! \nN’hésitez pas à venir à notre rencontre ! 😀
URL:https://www.mde-ce.com/event/animation-en-pied-dimmeuble-2/
ATTACH;FMTTYPE=image/png:https://www.mde-ce.com/wp-content/uploads/2023/06/atelier-Cyberbullying-2.png
END:VEVENT
BEGIN:VEVENT
DTSTART;TZID=UTC:20230615T100000
DTEND;TZID=UTC:20230615T113000
DTSTAMP:20260426T002034
CREATED:20230605T092843Z
LAST-MODIFIED:20230605T092843Z
UID:865-1686823200-1686828600@www.mde-ce.com
SUMMARY:Workshop : créer son site web
DESCRIPTION:Faire connaître son association ça passe aussi par la visibilité en ligne.\n👩‍💻 Découvrez comment lancer son premier site web en tant qu’association lors de notre prochain workshop !\nRendez-vous ici pour vous inscrire 👉 https://forms.gle/uvyZ9MrLoT7RaaLw6
URL:https://www.mde-ce.com/event/workshop-creer-son-site-web-2/
ATTACH;FMTTYPE=image/png:https://www.mde-ce.com/wp-content/uploads/2023/06/CROWDFUNDING-12.png
END:VEVENT
END:VCALENDAR