BEGIN:VCALENDAR
VERSION:2.0
PRODID:-//MDE Convergence Entrepreneurs - ECPv5.10.1//NONSGML v1.0//EN
CALSCALE:GREGORIAN
METHOD:PUBLISH
X-WR-CALNAME:MDE Convergence Entrepreneurs
X-ORIGINAL-URL:https://www.mde-ce.com
X-WR-CALDESC:évènements pour MDE Convergence Entrepreneurs
BEGIN:VTIMEZONE
TZID:UTC
BEGIN:STANDARD
TZOFFSETFROM:+0000
TZOFFSETTO:+0000
TZNAME:UTC
DTSTART:20230101T000000
END:STANDARD
END:VTIMEZONE
BEGIN:VEVENT
DTSTART;TZID=UTC:20231004T080000
DTEND;TZID=UTC:20231004T170000
DTSTAMP:20260425T175503
CREATED:20231004T083850Z
LAST-MODIFIED:20231004T084512Z
UID:1079-1696406400-1696438800@www.mde-ce.com
SUMMARY:Workshop : Booster la visibilité en ligne de votre association
DESCRIPTION:💻Comment augmenter la visibilité de votre association sur internet ? Entre référencement sur Google\, votre présence sociale et les plateformes dédiées\, plusieurs outils peuvent augmenter vos chances d’être vu. \nDécouvrez les leviers incontournables pour une présence en ligne efficace lors de ce prochain workshop.
URL:https://www.mde-ce.com/event/workshop-booster-la-visibilite-en-ligne-de-votre-association/
ATTACH;FMTTYPE=image/png:https://www.mde-ce.com/wp-content/uploads/2023/10/visibilite-en-ligne.png
END:VEVENT
BEGIN:VEVENT
DTSTART;TZID=UTC:20231009T090000
DTEND;TZID=UTC:20231013T170000
DTSTAMP:20260425T175503
CREATED:20231004T082710Z
LAST-MODIFIED:20231004T082841Z
UID:1075-1696842000-1697216400@www.mde-ce.com
SUMMARY:DigiPoP
DESCRIPTION:Une semaine d’immersion pour s’initier au numérique ! Du code jusqu’à l’impression 3D\, venez en apprendre davantage sur ces métiers porteurs dans le parcours DigiPoP. \nInscription sur le lien ci-dessous.
URL:https://www.mde-ce.com/event/digipop-4/
ATTACH;FMTTYPE=image/png:https://www.mde-ce.com/wp-content/uploads/2023/10/DP-oct.png
END:VEVENT
END:VCALENDAR