BEGIN:VCALENDAR
VERSION:2.0
PRODID:-//MDE Convergence Entrepreneurs - ECPv5.10.1//NONSGML v1.0//EN
CALSCALE:GREGORIAN
METHOD:PUBLISH
X-WR-CALNAME:MDE Convergence Entrepreneurs
X-ORIGINAL-URL:https://www.mde-ce.com
X-WR-CALDESC:évènements pour MDE Convergence Entrepreneurs
BEGIN:VTIMEZONE
TZID:UTC
BEGIN:STANDARD
TZOFFSETFROM:+0000
TZOFFSETTO:+0000
TZNAME:UTC
DTSTART:20240101T000000
END:STANDARD
END:VTIMEZONE
BEGIN:VEVENT
DTSTART;TZID=UTC:20240617T080000
DTEND;TZID=UTC:20240621T170000
DTSTAMP:20260425T034823
CREATED:20240617T114936Z
LAST-MODIFIED:20240617T114936Z
UID:1179-1718611200-1718989200@www.mde-ce.com
SUMMARY:Formalab
DESCRIPTION:Le FORMALAB c’est une semaine d’initiation aux usages\, aux métiers et aux compétences du numérique en visant à accompagner les publics dans leur compréhension des avenirs possibles dans le champ du numérique et de la Tech.\n\n\nAfin de promouvoir la place des femmes dans le numérique\, cette prochaine session sera dédiée à un public 100 % féminin.\n\n\nInscription par mail
URL:https://www.mde-ce.com/event/formalab/
ATTACH;FMTTYPE=image/png:https://www.mde-ce.com/wp-content/uploads/2024/06/Purple-And-Yellow-Modern-Web-Development-Instagram-Post-2.png
END:VEVENT
END:VCALENDAR