BEGIN:VCALENDAR
VERSION:2.0
PRODID:-//MDE Convergence Entrepreneurs - ECPv5.10.1//NONSGML v1.0//EN
CALSCALE:GREGORIAN
METHOD:PUBLISH
X-WR-CALNAME:MDE Convergence Entrepreneurs
X-ORIGINAL-URL:https://www.mde-ce.com
X-WR-CALDESC:évènements pour MDE Convergence Entrepreneurs
BEGIN:VTIMEZONE
TZID:UTC
BEGIN:STANDARD
TZOFFSETFROM:+0000
TZOFFSETTO:+0000
TZNAME:UTC
DTSTART:20250101T000000
END:STANDARD
END:VTIMEZONE
BEGIN:VEVENT
DTSTART;TZID=UTC:20250114T080000
DTEND;TZID=UTC:20250114T170000
DTSTAMP:20260424T160411
CREATED:20250114T133225Z
LAST-MODIFIED:20250114T133225Z
UID:1231-1736841600-1736874000@www.mde-ce.com
SUMMARY:Masterclass pratique : Le levier de choix pour votre entreprise
DESCRIPTION:L’avènement de l’intelligence artificielle chez le grand public a d’ores et déjà changé les règles de l’entrepreneuriat. De plus en plus de d’entreprises adoptent cette nouvelle pratique pour booster leur business\, que ça soit dans la gestion client\, dans le marketing ou dans la création de contenu. \nDécouvrez comment tirer le meilleur parti de l’IA pour votre business en 2025 avec notre Masterclass pratique qui vous permettra de les prendre en main et d’en démystifier tous les aspects.
URL:https://www.mde-ce.com/event/masterclass-pratique-le-levier-de-choix-pour-votre-entreprise/
ATTACH;FMTTYPE=image/png:https://www.mde-ce.com/wp-content/uploads/2025/01/IA-MasterclassP.png
END:VEVENT
END:VCALENDAR