BEGIN:VCALENDAR
VERSION:2.0
PRODID:-//MDE Convergence Entrepreneurs - ECPv5.10.1//NONSGML v1.0//EN
CALSCALE:GREGORIAN
METHOD:PUBLISH
X-WR-CALNAME:MDE Convergence Entrepreneurs
X-ORIGINAL-URL:https://www.mde-ce.com
X-WR-CALDESC:évènements pour MDE Convergence Entrepreneurs
BEGIN:VTIMEZONE
TZID:UTC
BEGIN:STANDARD
TZOFFSETFROM:+0000
TZOFFSETTO:+0000
TZNAME:UTC
DTSTART:20250101T000000
END:STANDARD
END:VTIMEZONE
BEGIN:VEVENT
DTSTART;TZID=UTC:20250604T080000
DTEND;TZID=UTC:20250604T170000
DTSTAMP:20260420T071439
CREATED:20250911T102601Z
LAST-MODIFIED:20250911T102623Z
UID:1363-1749024000-1749056400@www.mde-ce.com
SUMMARY:En piste pour l'entrepreneuriat à l'ère de l'IA
DESCRIPTION:Nous sommes ravis de prendre part à une journée exceptionnelle dédiée à la création d’entreprise avec Paris Terres d’Envol sur  : « l’intelligence artificielle pour entreprendre autrement ».\n\n\n Objectifs de cette journée :\nExplorer les opportunités de l’IA pour développer votre activité\nRencontrer les acteurs du territoire engagés pour vous accompagner\nProfiter d’ateliers pratiques et d’un concours de pitch pour valoriser votre projet\n\n\n​Au programme : ateliers thématiques sur l’utilisation de l’intelligence artificielle pour gérer son entreprise\, rencontres\, conférence\, table ronde\, concours de pitch « 3 minutes pour convaincre » (sur inscription) et remise de prix avec cérémonie de clôture.\n\n\n Tout au long de la journée\, vous pourrez parcourir les stands des acteurs de l’entrepreneuriat sur le territoire et échanger avec des experts.\n\n\n Date : mercredi 4 juin 2025\n Lieu : Espaces V Roger Lefort\, Villepinte\n Horaire : de 8h30 à 18h30\n Les places sont limitées !\n\n\nhttps://www.eventbrite.fr/…/billets-en-piste-pour…
URL:https://www.mde-ce.com/event/en-piste-pour-lentrepreneuriat-a-lere-de-lia/
ATTACH;FMTTYPE=image/png:https://www.mde-ce.com/wp-content/uploads/2025/09/Capture-decran-2025-09-11-120724.png
END:VEVENT
BEGIN:VEVENT
DTSTART;TZID=UTC:20250625T140000
DTEND;TZID=UTC:20250625T170000
DTSTAMP:20260420T071439
CREATED:20250911T100128Z
LAST-MODIFIED:20250911T100150Z
UID:1356-1750860000-1750870800@www.mde-ce.com
SUMMARY:Numérique\, Territoires et IA
DESCRIPTION:Le numérique est un secteur en plein essor\, créateur d’emplois et d’opportunités. Pourtant\, peu de demandeurs d’emploi du territoire en bénéficient aujourd’hui. Comment mieux informer sur les métiers qui recrutent ?Comment faciliter l’accès aux compétences attendues par les entreprises avec l’essor de l’intelligence artificielle ? Et comment renforcer les liens et les passerelles entre les acteurs pour accompagner cette dynamique au plus près du terrain ?Rejoignez-nous lors de cet événement dédié à l’emploi\, aux compétences et à l’intelligence artificielle dans la filière numérique !Retrouvez le programme détaillé ici : https://bit.ly/4kHGaa8Rendez-vous sur ce lien pour vous inscrire : https://bit.ly/443NJle
URL:https://www.mde-ce.com/event/1356/
ATTACH;FMTTYPE=image/jpeg:https://www.mde-ce.com/wp-content/uploads/2025/09/506645477_1119678610201479_4860635985919202511_n.jpg
END:VEVENT
END:VCALENDAR